BEGIN:VCALENDAR
VERSION:2.0
PRODID:icalendar-ruby
CALSCALE:GREGORIAN
METHOD:PUBLISH
BEGIN:VEVENT
DTSTAMP:20260424T102049Z
UID:6-271168@fbcmoreland.org
DTSTART:20260927T143000Z
DTEND:20260928T034500Z
CLASS:PUBLIC
CREATED:20260423T231426
DESCRIPTION:Join us each Sunday morning at 10:30 as we worship the Lord thr
 ough song and sermon.
LAST-MODIFIED:20260423T231426
LOCATION:FBCM Santuary
SUMMARY:Sunday Worship
URL;VALUE=URI:https://www.fbcmoreland.org/events/sunday-worship/2026-09-27
ATTACH;FILENAME=Sunday-Morning-Worship.png;FMTTYPE=image/png:https://dq5pwp
 g1q8ru0.cloudfront.net/2025/06/28/19/04/13/d8d1efe2-8dc9-41a9-8151-1e29d04
 9a3d4/Sunday-Morning-Worship.png
END:VEVENT
END:VCALENDAR
